BEGIN:VCALENDAR
VERSION:2.0
PRODID:-//Polyrene - ECPv6.15.20//NONSGML v1.0//EN
CALSCALE:GREGORIAN
METHOD:PUBLISH
X-ORIGINAL-URL:https://polyrene.fr/en/
X-WR-CALDESC:Events for Polyrene
REFRESH-INTERVAL;VALUE=DURATION:PT1H
X-Robots-Tag:noindex
X-PUBLISHED-TTL:PT1H
BEGIN:VTIMEZONE
TZID:Europe/Paris
BEGIN:DAYLIGHT
TZOFFSETFROM:+0100
TZOFFSETTO:+0200
TZNAME:CEST
DTSTART:20220327T010000
END:DAYLIGHT
BEGIN:STANDARD
TZOFFSETFROM:+0200
TZOFFSETTO:+0100
TZNAME:CET
DTSTART:20221030T010000
END:STANDARD
BEGIN:DAYLIGHT
TZOFFSETFROM:+0100
TZOFFSETTO:+0200
TZNAME:CEST
DTSTART:20230326T010000
END:DAYLIGHT
BEGIN:STANDARD
TZOFFSETFROM:+0200
TZOFFSETTO:+0100
TZNAME:CET
DTSTART:20231029T010000
END:STANDARD
BEGIN:DAYLIGHT
TZOFFSETFROM:+0100
TZOFFSETTO:+0200
TZNAME:CEST
DTSTART:20240331T010000
END:DAYLIGHT
BEGIN:STANDARD
TZOFFSETFROM:+0200
TZOFFSETTO:+0100
TZNAME:CET
DTSTART:20241027T010000
END:STANDARD
BEGIN:DAYLIGHT
TZOFFSETFROM:+0100
TZOFFSETTO:+0200
TZNAME:CEST
DTSTART:20250330T010000
END:DAYLIGHT
BEGIN:STANDARD
TZOFFSETFROM:+0200
TZOFFSETTO:+0100
TZNAME:CET
DTSTART:20251026T010000
END:STANDARD
BEGIN:DAYLIGHT
TZOFFSETFROM:+0100
TZOFFSETTO:+0200
TZNAME:CEST
DTSTART:20260329T010000
END:DAYLIGHT
BEGIN:STANDARD
TZOFFSETFROM:+0200
TZOFFSETTO:+0100
TZNAME:CET
DTSTART:20261025T010000
END:STANDARD
END:VTIMEZONE
BEGIN:VEVENT
DTSTART;TZID=Europe/Paris:20250708T080000
DTEND;TZID=Europe/Paris:20250712T170000
DTSTAMP:20260421T143225
CREATED:20240714T181251Z
LAST-MODIFIED:20240714T181251Z
UID:1876-1751961600-1752339600@polyrene.fr
SUMMARY:16th European Paediatric Neurology Society Congress
DESCRIPTION:Paediatric Neurology is a leading discipline. Combining the fascination for the child and the children’s brain\, it is located in the center of medicine\, science and the understanding of human development. Paediatric Neurology is opening new horizons for acute and chronic health conditions. Leaps of innovation are taking place for methods\, medications\, interventions and brain research. Right now Paediatric Neurology transfers its’ visionary future to the children with neurological complexity. \nFor the 2025 EPNS Munich Congress we classify our field into A for acute\, B for Brain\, Health & Science and C for Chronic. We are building our own alphabet of research and care taking: dedicated to the children\, equipped for the extending variety of neuropaediatric diseases\, stimulating and integrating science. \nThe Ludwig Maximilians University – LMU – Munich\, Germany fits perfectly to our academic culture of excellence\, interdisciplinarity and innovation. \nIn 2025\, be part of this unique ABC format to learn\, teach (and be tought)\, meet and exchange ideas on an international stage. \nCall for abstract will be open from September 2024 to January 2025.
URL:https://polyrene.fr/en/evenement-polyhandicap/16th-european-paediatric-neurology-society-congress/
LOCATION:Ludwig Maximilians University\, Geschwister-Scholl-Platz 1\, München\, 80539\, Allemagne
CATEGORIES:Congress
ATTACH;FMTTYPE=image/webp:https://polyrene.fr/wp-content/uploads/2024/10/LogoDesktop_EPNS25-800.webp
END:VEVENT
BEGIN:VEVENT
DTSTART;TZID=Europe/Paris:20250115T080000
DTEND;TZID=Europe/Paris:20250117T170000
DTSTAMP:20260421T143225
CREATED:20240714T181250Z
LAST-MODIFIED:20240714T181250Z
UID:1875-1736928000-1737133200@polyrene.fr
SUMMARY:34th Congress of the French Society of Pediatric Neurology (SFNP)
DESCRIPTION:The Société Française de Neurologie Pédiatrique (SFNP) is delighted to welcome you to Lyon\, city of lights\, 14 years after the last edition\, for their 34th congress. \nThe transversal dimension of cognitive disorders within all neurological pathologies will be their common thread\, thanks to the historical involvement of the Lyon Neuropediatrics team in this theme. The diversity of topics covered illustrates the richness and variety of neuropediatrics\, and the progress it has made in recent years\, particularly in the field of rare diseases and innovative therapies. \n\nRegistration opens: June 21\nCall for papers: September 02
URL:https://polyrene.fr/en/evenement-polyhandicap/34th-congress-of-the-french-society-of-pediatric-neurology-sfnp/
LOCATION:Centre de congrès\, 50 Quai Charles Gaulle\, Lyon\, 69006\, France
CATEGORIES:Congress
ATTACH;FMTTYPE=image/png:https://polyrene.fr/wp-content/uploads/2024/07/Banniere_SFNP2025.png
END:VEVENT
BEGIN:VEVENT
DTSTART;VALUE=DATE:20241002
DTEND;VALUE=DATE:20241005
DTSTAMP:20260421T143225
CREATED:20240714T181246Z
LAST-MODIFIED:20240714T181246Z
UID:1872-1727827200-1728086399@polyrene.fr
SUMMARY:39th SOFMER Congress
DESCRIPTION:The 39th Congress of Physical and Rehabilitation Medicine will take place from October 2 to 4\, 2024 at the Pierre Baudis Convention Center in Toulouse.
URL:https://polyrene.fr/en/evenement-polyhandicap/39th-sofmer-congress/
LOCATION:Centre de Congrès Pierre Baudis\, 11 Esp. Compans Cafferelli\, Toulouse\, 31000\, France
CATEGORIES:Congress
ATTACH;FMTTYPE=image/jpeg:https://polyrene.fr/wp-content/uploads/2023/10/logo-Sofmer-e1656588460527-copie.jpg
END:VEVENT
BEGIN:VEVENT
DTSTART;VALUE=DATE:20240403
DTEND;VALUE=DATE:20240405
DTSTAMP:20260421T143225
CREATED:20240714T181244Z
LAST-MODIFIED:20240714T181244Z
UID:1868-1712102400-1712275199@polyrene.fr
SUMMARY:XVth annual congress of the Société Francophone d'Études et de Recherche sur les Handicaps de l'Enfance (SFERHE)
DESCRIPTION:The Société Francophone d’Études et de Recherche sur les Handicaps de l’Enfance will be holding its XVth annual congress in Nantes in spring 2024. The congress will take place over 2 full days\, with plenary sessions\, satellite workshops\, a sports village\, partner exhibitors and plenty of surprises! \nObjectives  \nAgainst the backdrop of preparations for the 2024 Olympics\, the themes selected will correspond to the following objectives:\n\ncurrent situation and outlook for sport among people with disabilities\nmobility and exercise retraining: towards improved participation\nnutrition and metabolism during exercise\nunderstanding parasport and adapted sports\nunderstand the path from competition to Olympic success
URL:https://polyrene.fr/en/evenement-polyhandicap/xvth-annual-congress-of-the-societe-francophone-detudes-et-de-recherche-sur-les-handicaps-de-lenfance-sferhe/
LOCATION:Cité des Congrès de Nantes\, 5 Rue de Valmy\, Nantes\, 44000\, France
CATEGORIES:Congress
ATTACH;FMTTYPE=image/png:https://polyrene.fr/wp-content/uploads/2024/01/HomeSferhe20241_74bf4610-2734-43e6-875e-752ddc757a03.png
END:VEVENT
BEGIN:VEVENT
DTSTART;VALUE=DATE:20240124
DTEND;VALUE=DATE:20240127
DTSTAMP:20260421T143225
CREATED:20240714T181243Z
LAST-MODIFIED:20240714T181243Z
UID:1866-1706054400-1706313599@polyrene.fr
SUMMARY:33rd Congress of the French Society of Pediatric Neurology (SFNP)
DESCRIPTION:Date and venue: January 24-26\, 2024\, Rennes\, France\nCall for tenders opens: Monday\, September 4\, 2023\nSubmission deadline: Friday\, October 20\, 2023\nLink to call: https://www.sfneuroped.fr/nos-missions/congres-sfnp/
URL:https://polyrene.fr/en/evenement-polyhandicap/33rd-congress-of-the-french-society-of-pediatric-neurology-sfnp/
LOCATION:Couvent des Jacobins\, 20 Place Saint-Anne\, Rennes\, 35000\, France
CATEGORIES:Congress
ATTACH;FMTTYPE=image/jpeg:https://polyrene.fr/wp-content/uploads/2023/09/2023-06-banniere-web-sfnp-1.jpg
END:VEVENT
BEGIN:VEVENT
DTSTART;VALUE=DATE:20231012
DTEND;VALUE=DATE:20231015
DTSTAMP:20260421T143225
CREATED:20240714T181245Z
LAST-MODIFIED:20240714T181245Z
UID:1869-1697068800-1697327999@polyrene.fr
SUMMARY:38th SOFMER Congress
DESCRIPTION:The 2023 congress of the Société Française de Médecine Physique et Réadaptation (SOFMER) will be held in Le Havre at the Carré des Docks. \nIt will cover the classic themes of stroke\, spasticity\, musculoskeletal disorders\, chronic pain\, multiple sclerosis and Parkinson’s disease\, as well as expert topics such as respiratory rehabilitation\, swallowing disorders and ethics. \nAs every year\, a conference for the general public will be held on the theme of “Life\, Breath\, Balance: Parasport”\, enabling us throughout the congress to make room for physical activity and breath in this magnificent city venue. \n\nOnline registration closes: October 10\, 2023 at midnight\nCall for papers: July 28\, 2023
URL:https://polyrene.fr/en/evenement-polyhandicap/38th-sofmer-congress/
LOCATION:Carré de docks\, 64 Quai de la Réunion\, Havre\, 76600\, France
CATEGORIES:Congress
ATTACH;FMTTYPE=image/jpeg:https://polyrene.fr/wp-content/uploads/2023/10/logo-Sofmer-e1656588460527-copie.jpg
END:VEVENT
END:VCALENDAR